Workbook
Name _Hlk224312708: 'RFP General Terms & Conditions'!$A$1
Name a._By_applying_the_applicable_unit_price: 'Contract Terms and Conditions'!$A$51
Name a._Workers’_compensation_insurance_as_re: 'Contract Terms and Conditions'!$A$78
Name b._By_estimating_the_fair_and_reasonable: 'Contract Terms and Conditions'!$A$53
Name b._Employer’s_liability_insurance_with_a: 'Contract Terms and Conditions'!$A$80
Name c._Comprehensive_general_liability_with_: 'Contract Terms and Conditions'!$A$82
Name ClientName: '[1]Read Me First'!$C$8
Name Q._ADDITIONAL_GROUNDS_FOR_CANCELLATION_O: 'Contract Terms and Conditions'!$A$149
Name to_Contractor.__Said_notice_shall_contai: 'Contract Terms and Conditions'!$A$142

Sheet Cover Page
F9: Fashion Institute of Technology (FIT)
F11: Request for Proposal
E13: Basic Life and Accidental Death and Dismemberment (AD&D),
E14: Voluntary Life and Long-Term Disability (LTD) Insurance
F15: RFP #: C1757
F17: 46323

Sheet Table of Contents
A1: ='Cover Page'!F9 -> Fashion Institute of Technology (FIT)
A2: ='Cover Page'!F11 -> Request for Proposal
A3: ='Cover Page'!E13 -> Basic Life and Accidental Death and Dismemberment (AD&D),
A5: Table of Contents
A8: Notice to Firms | H8: 1
A10: Schedule | H10: 2
A12: Background, Objective, Assumptions, Considerations, Term and Requirements | H12: 3
A14: College Responsibilities and Evaluation Criteria | H14: 4
A16: RFP Instructions | H16: 5
A18: Questionnaire | H18: 6
A20: Exhibit A Life-AD&D 2027 Rates | H20: 7
A22: Exhibit B LTD 2027 Rates | H22: 8
A24: Basic Life Provisions | H24: 9
A26: Basic Life Financials | H26: 10
A28: Voluntary Life Provisions | H28: 11
A30: Voluntary Life Financials | H30: 12
... A34: LTD Financials | H34: 14
H36: 15

Sheet Notice to Firms
A1: Notice To Firms
A3: ='Cover Page'!F9 -> Fashion Institute of Technology (FIT)
A4: ='Cover Page'!F11 -> Request for Proposal
A5: ='Cover Page'!E13 -> Basic Life and Accidental Death and Dismemberment (AD&D),
A7: ='Cover Page'!F15 -> RFP #: C1757
A9: FIT is ONLY accepting electronic proposals for the subject project.
A13: You must email your proposal to the Purchasing Office at purchasingbids@fitnyc.edu in PDF format and it should include all the requested documents.
A16: Each proposal must be identified, with the name and address of the firm and designated as proposal for the project titled above.
A18: The Fashion Institute of Technology will not be responsible for receipt of proposals which do not comply with these instructions. Late proposals will not be opened.
A20: Only those proposals received by the FIT Purchasing Office on or before 12:00:00 PM on December 1, 2026 will be considered.
A23: FIT in its sole interest and discretion may accept or reject any proposal submitted.

Sheet Schedule
A1: ='Notice to Firms'!A3:M3 -> Fashion Institute of Technology (FIT)
A2: ='Notice to Firms'!A4:M4 -> Request for Proposal
A3: ='Notice to Firms'!A5:M5 -> Basic Life and Accidental Death and Dismemberment (AD&D),
A4: ='Cover Page'!F15 -> RFP #: C1757
A6: Schedule
A11: Release Date | I11: 46323
A13: Last Date to Send Questions | H13: 0.625 | I13: 46338
A15: RFP Due Date | H15: 12:00:00PM | I15: 46357
A17: Finalist Presentations/Site Visits (anticipated) | I17: Early - Mid January 2027
A19: Contract Award (anticipated) | I19: Late January - Mid February 2027
A21: Implementation begin date | I21: February 2027 - April 2027
A23: Plan Effective Date | I23: 46508
A26: Written questions must be submitted to Purchasing Office via email to: Purchasingbids@fitnyc.edu. Answers will be provided in the form of an Addendum and be posted on the FIT purchasing department website. https://www.fitnyc.edu/purchasing Select: Current Bid Opportunities and select the corresponding project.

Sheet Background
A1: ='Cover Page'!F9 -> Fashion Institute of Technology (FIT)
A2: ='Cover Page'!F11 -> Request for Proposal
A3: ='Cover Page'!E13 -> Basic Life and Accidental Death and Dismemberment (AD&D),
A5: BACKGROUND
A6: The Fashion Institute of Technology ("FIT" or "College"), founded in 1944, is a community college of art and design, fashion, communications, business and technology of the State University of New York (SUNY). FIT currently has a total enrollment of approximately of 9,800 students which are made up of approximately 7,400 students who study full-time and another 2,400 who take part-time classes. The College offers the following degrees: Associate of Applied Science Degrees, Bachelor of Science Degrees, Bachelor of Fine Arts Degrees, Master of Professional Studies Degrees, Masters of Arts Degrees, and a Master of Fine Arts Degree. The College offers over 45 Majors and 8 Certificates. Located in the Chelsea area of Manhattan, FIT's facilities, which are located on West 27th Street between 7th and 8th Avenues, are composed of administrative offices, classrooms, computer labs, and studios. The campus also includes the Gladys Marcus Library and The Museum of FIT. Four residence halls serve more than 2,300 students.
A14: FIT currently employs approximately 2,263 full-time and part-time faculty and staff.
A16: OBJECTIVE
A17: Currently full-time employees are eligible for life, AD&D and LTD benefits. The census includes only eligibile employees. Eligible employees covered under these benefits include only faculty and staff as indicated in the census. Faculty includes those in teaching positions. Anyone with a Staff indication in the census are in administrative/desk positions. Grounds and building services personnel are not eligibile for these benefits through FIT.
A19: Currently, life and AD&D insurance is provided through Hartford. Employees receive basic life insurance coverage equal to their basic annual salary (maximum of $250,000), rounded to the next higher multiple of $1,000 if not already a multiple thereof. The amount of life insurance for those age 70 -74 is 65% of their basic annual salary, rounded to the next higher multiple of $1,000 if not already a multiple thereof. The amount of life insurance for those age 75 and above is 50% of their basic annual salary, rounded to the next higher multiple of $1,000 if not already a multiple thereof. AD&D is covered in an amount equal to the basic life insurance.
A21: New hires have the opportunity to purchase Voluntary Life insurance with the Hartford over and above the amount of Basic coverage provided by the College. If they elect the Voluntary Life insurance coverage, they pay the full premium cost of the coverage through payroll deductions. They may elect coverage in multiples of their annual salary: 1x, 2x, 3x, or 4x salary to a maximum of $500,000. The first $250,000 of coverage elected is guarantee issued and does not require any medical evidence of insurability. For any amount elected over $250,000, the employee is required to submit medical evidence of insurability and approval is determined by Hartford after review. Employee-paid premiums for the Voluntary insurance are age-banded.
A23: Each year, an annual enrollment period for the Voluntary coverage is held in the month of December. Employees who did not elect to purchase any coverage during their first 30 days as a new employee and later wish to elect coverage or increase their level of coverage during an annual enrollment period, are required to submit medical evidence of insurability for any coverage elected. If an employee has a change in family status, the employee will be permitted to increase/decrease insurance within 30 days of the family status change event. If an employee is initially enrolling in the voluntary coverage or if an employee wants to increase their current coverage due to the family status event - medical evidence of insurability is required.
A25: In addition, to the life insurance coverage, employees receive the Frontier MEDEX travel assistance benefit. This benefit assists FIT employees and their families who are more than 100 miles from home with worldwide emergency assistance services. Frontier MEDEX Travel Assistance offers a full range of professional 24-hour medical, legal and travel assistance services.
A27: FIT also offers full-time employees a long term disability (LTD) plan through Hartford. There is no cost to employee for the basic plan; employees have buy-up options available - the cost of this coverage is paid though payroll deduction. The benefit is effective the first day of employee's full-time starting date. For an eligible disability, the basic plan (Option A) covers 60% of salary, maximum benefit of $6,000 per month, after a 180 day elimination period. Employees may purchase from a choice of three buy-up options to increase benefits (funded through employee payroll deductions). The buy-up options must be elected within 30 days of the employee's effective date in the plan or during the annual open enrollment period. Pre-existing conditions are subject to a 12 month waiting period.
A29: Employees can purchase buy-up coverage under one of the following alternatives:
A30: ● | B30: Option B: 90 day elimination period, 60% of salary, maximum benefit of $6,000 per month
A31: ● | B31: Option C: 180 day elimination period, 70% of salary, maximum benefit of $6,000 per month
A32: ● | B32: Option D: 90 day elimination period, 70% of salary, maximum benefit of $6,000 per month
A34: The Office of Human Resources at FIT is requesting proposals from insurers to provide the services necessary to administer Basic Life/AD&D, Voluntary Life and LTD insurance for participants who are full-time employees.
A37: The College's primary objectives are to achieve exceptional customer service for both participants and the administrators, obtain a competitive financial arrangement and administration consolidation.
A40: The College seeks proposals from interested organizations who have successfully managed the administration of life, AD&D and LTD plans. Proposals will be evaluated and the College will award a contract.
A43: ASSUMPTIONS AND CONSIDERATIONS
A44: a. | B44: Effective date of administration of life, AD&D and LTD insurance plans is May 1, 2027. Implementation must be complete by this date if awarded.
A45: b. | B45: The life, AD&D and LTD plans are all Calendar Year Plans.
A46: c. | B46: Maximum number of life, AD&D and LTD eligible employees: | G46: 806
A47: d. | B47: Current (as of June 1, 2026) eligible participants:
B48: i. | C48: Life/AD&D: | D48: =G46 -> 806
B49: ii. | C49: LTD: | D49: =G46 -> 806
A51: e. | B51: Fees noted in proposal should be guaranteed for a minimum period of 3 years.
A53: Under no circumstance will the College be liable for any costs neither incurred by the insurer preparation and/or production of a Proposal nor for any work performed prior to FIT's written authorization to process on the contract.
A56: FIT encourages the submission of proposals from certified minority and women-owned business enterprises.
A58: Any proposed subcontracting is subject to review and approval by FIT.
A60: TERM
A61: The term of this contract shall be for an initial period of three (3) years commencing May 1, 2027 and ending April 30, 2030, with the option to renew up to three (3) additional on-year terms at the colleges discretion.
A63: In addition to any other termination rights reserved elsewhere in this RFP and any resulting agreement, FIT reserves the right to terminate the contract, in whole or in part, for its convenience upon thirty (30) days' written notice to the Contractor. Such termination shall not be deemed a breach of contract, provided the Contractor is compensated for services satisfactorily performed and accepted by FIT through the effective date of termination.
A66: REQUIREMENTS
A67: All insurers shall meet the following requirements and furnish all necessary information with the Proposal. FIT is ONLY accepting electronic proposals for the subject project which we can extract responses for insertion (Excel format preferred) onto an evaluation chart. The proposal must be emailed to purchasingbids@fitnyc.edu and received on or before December 1, 2026, 12:00PM. Failure to comply with these requirements shall be grounds for rejection of your Proposal. FIT reserves the right to determine that the insurer has substantially met all the requirements of the RFP and/or ask for additional information. Those items for which the insurer have or assert proprietary rights, or which must, under prior contract, remain confidential, shall be clearly indicated. Submission of Proposal shall be deemed to grant FIT the right to utilize submissions in any way, with or without prior notice. Absent affirmative assertion, FIT reserves such right to use.
A76: The insurer shall provide a comprehensive and complete proposal by completing the appropriate tabs within this document. Each tab must be completed and contain, at a minimum, the information described within. When submitting your quote to us, you must include this completed document, along with a copy of your quote (pdf or word document). This request for a proposal assumes that the services you propose to provide are at no cost unless the cost is indicated. If you do not indicate a cost, it will be assumed that the service you are quoting is at no cost. For example, if we request that you conduct two presentations per year for the employee population, and you indicate that you can do so but are silent on the issue of cost, it will be assumed that you conduct two presentations each year at no cost. Please pay close attention to this requirement and be sure to indicate a cost wherever a cost is applicable. Additional costs levied after the acceptance of the proposal will be disputed.
A84: A. At no time shall the Proposer, its agents, representatives or contracted personnel contact or otherwise communicate with FIT personnel without prior arrangement with the FIT Purchasing Office, for the purposes of negotiating, modifying, changing, or interpreting the Proposal or specifications. B. Questions shall be submitted in writing to the attention of the FIT Purchasing Office via e-mail to purchasingbids@fitnyc.edu by April 15, 2026, no later than 12:00 PM. Answers will be provided in the form of an Addendum and be posted on the FIT purchasing department website. https://www.fitnyc.edu/about/administration/finance/purchasing/current-bids.php It is the responsibility of each Proposer to ascertain whether any addenda have been issued and to ensure that all addenda are considered in the preparation of its proposal. Proposers shall sign and acknowledge all addenda issued and include such signed addenda with their proposal submission. The failure of a Proposer to acknowledge, sign, or incorporate any addendum shall not entitle the Proposer to modify pricing, claim additional compensation, or otherwise alter its proposal after the submission deadline. FIT reserves the right, in its sole discretion, to waive informalities or minor irregularities related to addenda acknowledgment where such waiver does not prejudice fair competition or materially affect the proposal. FIT further reserves the right to determine whether failure to acknowledge an addendum constitutes a material deviation rendering the proposal non-responsive. C. If it becomes necessary to revise any part of this RFP, addenda will be supplied to all Proposers receiving this RFP. D. All Proposals submitted in response to this RFP will become the property of FIT and a matter of public record. The Proposer must identify, in writing, all copyrighted materials, trade secrets, or other proprietary information that it claims is exempt from disclosure. Any Proposer claiming such an exemption must also state in its Proposal that the Proposer agrees to hold harmless, indemnify and defend FIT and its agents, officials and employees in any action or claim brought against FIT for its refusal to disclose such materials, trade secrets or other proprietary information to any party making a request thereof. Any Proposer failing to include such a statement shall be deemed to have waived its right to exemption from disclosure. E. Proposer shall have been in business no less than five (5) years. F. FIT is exempt from payment of any federal, state, and local sales and use taxes. Do not include these taxes when proposing prices for goods or Services (as defined below). G. Proposals must be signed. Proposals must be completed in Proposer’s legal name, and must be signed by a personal authorized to do so. Proposals shall offer best and final terms. All prices shall be firm and not subject to increase during the period of the contract. H. FIT reserves the right to award a contract on the basis of Proposer’s submitted proposal without further discussion. Proposer’s ideas or concepts included in the Proposal are solely intended for implementation into a contract. I. By signing and submitting your Proposal, Proposer affirms that it has read this RFP, accepts its terms, and is able and willing to sign the contract if Proposer’s proposal is accepted, subject only to any changes negotiated and agreed upon by both parties. The issuance of a letter of intent to award or similar document does not require or commit FIT to enter into a contract until all terms and conditions are negotiated and acceptable to FIT. In the event of any inconsistencies between the Proposal and the RFP, the language of the RFP will prevail unless there is a written agreement to accept the Proposal’s terms. J. Bid Security, Performance, and Payment Bonds are NOT required for this Contract

Sheet Evaluation Criteria
A1: ='Cover Page'!F9 -> Fashion Institute of Technology (FIT)
A2: ='Cover Page'!F11 -> Request for Proposal
A3: ='Cover Page'!E13 -> Basic Life and Accidental Death and Dismemberment (AD&D),
A5: COLLEGE RESPONSIBILITIES
A6: The managers and staff of the College's administrative offices and financial offices will be available to assist the organization by providing all required documents, information, and interviews. It is assumed that all work performed by the organization to fulfill the requirements of this engagement will be performed at the organization's office.
A11: EVALUATION CRITERIA
A12: All proposals must be complete and convey all of the requested information, in the prescribed format, in order to be considered responsive.
A14: Responsive proposals will be evaluated by a committee on the basis of the criteria listed below. The following criteria as well as possible interviews of selected finalists will be considered in award determination:
B17: 1. Fee for Services | I17: 0.3
B19: 2. Insurer's profile, account management, service requirements, client management, reporting and communication capabilities, implementation, and customer service. | I19: 0.3
B21: 3. Proposals | I21: 0.2
B23: 4. Interviews | I23: 0.2
A25: FIT reserves the right to award the Contract to the insurer with the highest score on criteria 1 through 3 or to interview firms with the highest score on the sum criteria 1 through 3. In the latter case, FIT will award the Contract to the insurer with the highest score on criteria 1 through 4.

Sheet RFP Instructions
A1: ='Evaluation Criteria'!A1:M1 -> Fashion Institute of Technology (FIT)
A2: ='Evaluation Criteria'!A2:M2 -> Request for Proposal
A3: ='Evaluation Criteria'!A3:M3 -> Basic Life and Accidental Death and Dismemberment (AD&D),
A4: RFP Instructions
A6: In the event you are chosen to contract with the Fashion Institute of Technology, your answers to this RFP will be considered binding upon the subsequent execution of the contract. Your RFP response will be incorporated and made a part of your contract with the Fashion Institute of Technology in the event you are chosen as a vendor for the Fashion Institute of Technology. As such, please ensure that all answers submitted in your proposal are correct.
A8: All information herein is confidential. You are not authorized to share the information in this proposal request with any other person(s) or organization(s) without the express written authorization of the Fashion Institute of Technology.
A10: i. | B10: Plan Design
B11: Plan Documents are attached. Any differences between the attached documents and your proposal must be described in detail in your response.
A13: ii. | B13: Required Attachments
B14: • | C14: RFP Questionnaire
B15: • | C15: Financial Proposal for all requested coverages (including Attached Exhibit A & B: 2027 Rates)
B16: • | C16: Copy of sample certificate of coverage
B17: • | C17: Copy of the master policy and applicable amendments
B18: • | C18: Copy of sample fully-insured contract
A20: If you do not agree to any of the requirements listed in this proposal, please explain all deviations and include them in your cover letter.
A22: Please note: Please provide additional attachments labeled as attachments to the appropriate section - i.e. attachment to Section B, etc.

Sheet Questionnaire
A1: ='RFP Instructions'!A1:M1 -> Fashion Institute of Technology (FIT)
A2: ='RFP Instructions'!A2:M2 -> Request for Proposal
A3: ='RFP Instructions'!A3:M3 -> Basic Life and Accidental Death and Dismemberment (AD&D),
A4: RFP Questionnaire
A5: Vendor Name:
A7: Your answers to all the questions in this RFP will be considered binding commitments to perform the obligations described upon acceptance of your proposal by FIT. FIT expects that a service contract including performance guarantees will be executed within 60 days of notification to the finalist. Any major contractual issues or differences from the requirements described in this RFP should be immediately disclosed within 5 days of notification to the chosen finalist, so that they may be resolved prior to contract execution. In the event of a material omission in your response, any dispute will be resolved in FIT’s favor.
A9: All questions assume there is no additional charge for the service(s) requested. If there are additional charges, it is your responsibility to outline them in your answer. Remember your answers will be binding upon acceptance of your proposal.
A11: Please put an X in the box under columns C, D or E confirming your answer with a Yes, No or a Yes with Modifications. If your answer to any of the questions is a Yes with Modifications, please explain why and explain your modification.
A12: Please note: If your answer cannot fit in the shaded blue area, or if you need to provide an answer in an attachment (rates or plan design, sample ID cards, or sample communications, for instance) please provide the additional information as an attachment to the appropriate section - i.e.: attachment to Section III, etc.).
A14: Section I - Requirements
A15: The following requirements are non-negotiable. Please indicate that you agree to all of the following requirements. If you do not agree to the following, you are required to decline this RFP. | C15: YES | D15: NO | E15: YES with Modifications
A16: 1 | B16: Confirm the minimal financial ratings listed below. FIT prefers vendors with the following minimum financial ratings to submit a proposal. If you do not have the following minimum financial ratings, please attach an explanation.
A17: a. | B17: A.M. Best - A-
A18: b. | B18: Fitch - A+
A19: c. | B19: Standard & Poor's - A+
A20: d. | B20: Moody's - A1
A21: =A16+1 -> 2 | B21: Confirm that acquiring FIT as a client will result in less than a 5% increase in total premium collected for 1) disability 2) life insurance.
A22: =A21+1 -> 3 | B22: Confirm that your organization has a minimum of 10 years of experience serving both life and disability accounts.
A23: =A22+1 -> 4 | B23: Confirm you can accommodate an effective date of 1/1/2026
A24: =A23+1 -> 5 | B24: Confirm that you will duplicate the current plan design, listed in the attached plan documents, without deviation.
A25: 6 | B25: Confirm that your organization will be the primary party to the contracted services. If a third party vendor performs any of the services described in the contract, your organization must identify the third party vendor and the services it performs, the percentage of these outsourced services must not exceed 20% at any time during the agreement, and your organization must remain responsible for the services performed by the third party vendor to the same extent as if such services were performed by your organization.
A26: =A25+1 -> 7 | B26: Confirm that rates are guaranteed for a minimum of three years, preferably 4-5 years, notwithstanding changes in eligible participants’ participation rates, age, occupation, etc. during the rate guarantee period.
A27: =A26+1 -> 8 | B27: Confirm that all eligible participants will be covered on a "no loss, no gain" basis.
A28: =A27+1 -> 9 | B28: Audits
A29: a. | B29: Confirm that you agree to and will cooperate fully with onsite audits, performed at reasonable intervals not to exceed one per year, in which FIT or its assigned representatives may validate the performance of your organization (or any subcontractor performing services described in the contract) in accordance with the executed contract. These audits will be conducted at FIT's own expense, with appropriate and sufficient notice. However, FIT would not be liable for any services or internal costs incurred by you relative to the audit.
A30: b. | B30: Please confirm that the cost of fulfilling the data request for audit support will be covered by you.
A31: c. | B31: Also, confirm the data request will be fulfilled in a timely manner not to exceed 3 weeks.
A32: d. | B32: Please confirm that if at any time, FIT conducts an investigation of the vendor's service, as a result of substantial employee or provider complaints, or conducts a claims audit as a result of multiple and reoccurring claims processing errors, this investigation, and the expenses required to remedy found inadequacies, will be performed at the vendor's expense.
A33: e. | B33: Include a description of your organization’s audit guidelines for claims processing and for customer service.
A34: =A28+1 -> 10 | B34: Confirm that you agree to an allow independent 3rd party review of claims appeals upon request by FIT.
A35: =A34+1 -> 11 | B35: Confirm that servicing FIT’s account will not create any conflict of interest for your organization or for FIT.
A36: =A35+1 -> 12 | B36: Confirm that you are capable of providing a fully insured option for each financial section.
A37: =A36+1 -> 13 | B37: Coordination and integration with medical coverage
A38: a. | B38: FIT is committed to the health of employees and very interested in your organization’s ability to coordinate disability and medical care. Please be sure to include information in your proposal on your ability to coordinate the claimant’s care across the continuum of the employee’s experience.
A39: b. | B39: How do you envision integration/coordination with medical coverage? Describe how you currently integrate your disability customers' disability information and resources with your customers' medical management programs (including medical claims administrators, medical management vendors and customer's other resources, e.g. on-site clinics, EAP, etc.).
A40: Section II - Corporate Structure and Financial Strength | C40: YES | D40: NO | E40: YES with Modifications
A41: =A37+1 -> 14 | B41: Provide a brief narrative describing the history, ownership, and organization of your company.
A42: =A41+1 -> 15 | B42: Include a copy of your most recent annual report.
A43: =A42+1 -> 16 | B43: Mergers and Acquisitions
A44: a. | B44: Describe any mergers or acquisitions occurring in the prior 24 months.
...

Sheet Exhibit A Life-AD&D 2027 Rates
A1: ='Evaluation Criteria'!A1:M1 -> Fashion Institute of Technology (FIT)
A2: =Schedule!A4 -> RFP #: C1757
A4: Proposal Analysis Sheet
A5: LIFE and AD&D INSURANCE
A7: Firm: | F7: Date:
A9: By:
B10: Signature/Print Name and Title
A11: Telephone:
A12: Federal ID#:
A13: Email:
A15: IMPORTANT: This proposal analysis page is the only pricing format acceptable. Organizations must submit pricing using this form. FIT will not accept proposal responses on any other form.
A18: Instructions: Please complete the shaded columns with your rates. Premiums Effective 1/1/2027.
A19: Below is a rate history for the past three years.
D21: Rate per $1,000 | F21: Assuming awarded Life, AD&D & LTD | G21: Assuming awarded Life and AD&D only
B22: Enrollment | C22: Volume | D22: 2019-2024 | E22: 2024-current | F22: 2027-2029 | G22: 2027-2029
A23: Basic Life | B23: 806 | C23: 94919000 | D23: 0.148 | E23: 0.148
A25: Basic AD&D | B25: 806 | C25: 94919000 | D25: $.908 | E25: 0.021
A27: Additional Life
A28: <24 | B28: 0 | C28: 0 | D28: $.035 | E28: 0.035
A29: 25-29 | B29: 2 | C29: 333000 | D29: $.035 | E29: 0.035
A30: 30-34 | B30: 1 | C30: 89000 | D30: $.042 | E30: 0.042
A31: 35-39 | B31: 13 | C31: 3888000 | D31: 0.05 | E31: 0.05
A32: 40-44 | B32: 25 | C32: 7207000 | D32: $.086 | E32: 0.086
A33: 45-49 | B33: 39 | C33: 12872000 | D33: $.137 | E33: 0.137
A34: 50-54 | B34: 45 | C34: 14904000 | D34: $.221 | E34: 0.221
A35: 55-59 | B35: 28 | C35: 8778000 | D35: $.345 | E35: 0.345
A36: 60-64 | B36: 42 | C36: 14255000 | D36: $.545 | E36: 0.545
A37: 65-69 | B37: 32 | C37: 9135000 | D37: $.908 | E37: 0.908
A38: 65-69 | B38: 2 | C38: 882000 | D38: $.908 | E38: 0.908

Sheet Exhibit B LTD 2027 Rates
A1: ='Evaluation Criteria'!A1:M1 -> Fashion Institute of Technology (FIT)
A2: =Schedule!A4 -> RFP #: C1757
A4: Proposal Analysis Sheet
A5: LTD INSURANCE
A7: Firm: | G7: Date:
A9: By:
B10: Signature/Print Name and Title
A11: Telephone:
A12: Federal ID#:
A13: Email:
A15: IMPORTANT: This proposal analysis page is the only pricing format acceptable. Organizations must submit pricing using this form. FIT will not accept proposal responses on any other form.
A18: Instructions: Please complete the shaded columns with your rates. Premiums Effective 1/1/2027.
E21: Monthly Rate per $100 of covered payroll | G21: Assuming awarded Life, AD&D & LTD | H21: Assuming awarded LTD only
A22: LTD | B22: Enrollment | C22: Volume | E22: 2019-2024 | F22: 2024-current | G22: 2027-2029 | H22: 2027-2029
B23: 806 | C23: 7090924.5 | D23: Option A - Core | E23: 0.226 | F23: 0.216
B26: Enrollment | C26: Volume | E26: Monthly Rate per $100 of covered payroll | G26: Assuming awarded Life, AD&D & LTD | H26: Assuming awarded LTD only
B27: =SUM(B28:B38) -> 133 | C27: =SUM(C28:C38) -> 1181895.2 | D27: Option B | E27: 2019-2024 | F27: 2024-current | G27: 2027-2029 | H27: 2027-2029
B28: 0 | C28: 0 | D28: Less Than 25 | E28: $.032 | F28: 0.37
B29: 8 | C29: 50518.732 | D29: 25-29 | E29: $.029 | F29: 0.38
B30: 13 | C30: 97068.796 | D30: 30-34 | E30: $.025 | F30: 0.38
B31: 7 | C31: 50944.823 | D31: 35-39 | E31: $.021 | F31: 0.41
B32: 12 | C32: 99845.747 | D32: 40-44 | E32: $.019 | F32: 0.45
B33: 12 | C33: 116748.48 | D33: 45-49 | E33: $.022 | F33: 0.48
B34: 17 | C34: 163495.85 | D34: 50-54 | E34: $.024 | F34: 0.57
B35: 17 | C35: 159506.61 | D35: 55-59 | E35: $.03 | F35: 0.65
B36: 17 | C36: 151546.2 | D36: 60-64 | E36: $.034 | F36: 0.68
B37: 20 | C37: 193897.83 | D37: 65-69 | E37: $.033 | F37: 0.63
B38: 10 | C38: =58491.34+39830.82 -> 98322.16 | D38: 70-99 | E38: $.033 | F38: 0.63
B41: Enrollment | C41: Volume | E41: Monthly Rate per $100 of covered payroll | G41: Assuming awarded Life, AD&D & LTD | H41: Assuming awarded LTD only
B42: =SUM(B43:B53) -> 24 | C42: =SUM(C43:C53) -> 200508.4 | D42: Option C | E42: 2019-2024 | F42: 2024-current | G42: 2027-2029 | H42: 2027-2029
B43: 0 | D43: Less Than 25 | E43: $.204 | F43: 0.37
B44: 0 | D44: 25-34 | E44: $.146 | F44: 0.37
B45: 1 | C45: 6409.5975 | D45: 30-34 | E45: $.155 | F45: 0.37
B46: 0 | D46: 35-39 | E46: $.126 | F46: 0.41
B47: 2 | C47: 16815.699 | D47: 40-44 | E47: $.116 | F47: 0.45
B48: 4 | C48: 34285.714 | D48: 45-49 | E48: $.136 | F48: 0.51
B49: 7 | C49: 58959.404 | D49: 50-54 | E49: $.155 | F49: 0.59
B50: 3 | C50: 25470.247 | D50: 55-59 | E50: $.184 | F50: 0.65
B51: 2 | C51: 15710.589 | D51: 60-64 | E51: $.213 | F51: 0.66
B52: 1 | C52: 8571.4286 | D52: 65-69 | E52: $.204 | F52: 0.66
...

Sheet Basic Life Plan Provisions
A1: =ClientName -> Fashion Institute of Technology (FIT)
A2: Provisions For Basic Life/AD&D
B4: Current | C4: Vendor Response | D4: Alternate | E4: Alternate Vendor Response
A5: General Information | B5: Basic Life/AD&D | C5: Basic Life/AD&D | D5: Basic Life/AD&D | E5: Basic Life/AD&D
A6: Class 1
A7: Class Definition | B7: All Full-time Active Employees
A8: Coverage Effective Date | B8: No probationary period
A9: Definition of covered earnings | B9: Contracted annual rate of pay
A10: Benefit Amount | B10: 1x annual earnings
A11: Minimum Benefit | B11: 10000
A12: Maximum Benefit | B12: 250000
A13: Guarantee Issue Amount | B13: 250000
A14: Class 2
A15: Class Definition | B15: All Full-time Active Employees of SUNY Korea, LLC
A16: Coverage Effective Date | B16: No probationary period
A17: Definition of covered earnings | B17: Contracted annual rate of pay
A18: Benefit Amount | B18: 1x annual earnings
A19: Minimum Benefit | B19: 10000
A20: Maximum Benefit | B20: 250000
A21: Guarantee Issue Amount | B21: 250000
A22: Class 3
A23: Class Definition
A24: Coverage Effective Date
A25: Definition of covered earnings
A26: Benefit Amount
A27: Minimum Benefit
A28: Maximum Benefit
A29: Guarantee Issue Amount
A30: Class 4
A31: Class Definition
A32: Coverage Effective Date
A33: Definition of covered earnings
... A38: Reductions
A39: Age Reduction Schedule | B39: 65% at age 70, 50% at age 75
A40: Coverage Terminate Date | B40: Date of termination of employment
A41: Additional Provisions
A42: Waiver of Premium? | B42: Yes
A43: Waiver of Premium - Waiting period | B43: 6 months
A44: Waiver of Premium - Maximum age to begin | B44: 60
A45: Waiver of Premium - Termination age | B45: SSNRA
...

Sheet Basic Life Financials
A1: =ClientName -> Fashion Institute of Technology (FIT)
A2: Basic Life/AD&D - Rates
A4: Basic Life
A5: Rate Basis: | B5: 1000 | C5: Inforce Plan | F5: Vendor Response
A6: Class | C6: Lives | D6: Volume | E6: Inforce Rate | F6: Quoted Rate
A7: All Eligible | C7: 806 | D7: 94919000 | E7: 0.148
A8: Class 3
A9: Class 4
A11: Monthly Cost | C11: =SUM(C7:C9) -> 806 | D11: =SUM(D7:D9) -> 94919000 | E11: =SUMPRODUCT($D$7:$D$9,E7:E9)/$B$5 -> 14048.012 | F11: =SUMPRODUCT($D$7:$D$9,F7:F9)/$B$5 -> 0
A12: Annual Cost | E12: =E11*12 -> 168576.14 | F12: =F11*12 -> 0
A14: $ Change from current | F14: =F12-$E$12 -> -168576.14
A15: % Change from Current | F15: =F14/$E$12 -> -1
A19: Basic AD&D
A20: Rate Basis: | B20: 1000 | C20: Inforce Plan | F20: Vendor Response
A21: Class | C21: Lives | D21: Volume | E21: Inforce Rate | F21: Quoted Rate
A22: All Eligible | C22: 806 | D22: 94919000 | E22: 0.021
A23: Class 3
A24: Class 4
A26: Monthly Cost | C26: =SUM(C22:C24) -> 806 | D26: =SUM(D22:D24) -> 94919000 | E26: =SUMPRODUCT($D$22:$D$24,E22:E24)/$B$20 -> 1993.299 | F26: =SUMPRODUCT($D$22:$D$24,F22:F24)/$B$20 -> 0
A27: Annual Cost | E27: =E26*12 -> 23919.588 | F27: =F26*12 -> 0
A29: $ Change from current | F29: =F27-$E$27 -> -23919.588
A30: % Change from Current | F30: =F29/$E$27 -> -1
A34: Basic Dependent Life
A35: Rate Basis | B35: Employee | C35: Inforce Plan | F35: Vendor Response
A36: Class | C36: Lives | D36: Volume | E36: Inforce Rate | F36: Quoted Rate
A37: All Employees | D37: N/A
A39: Monthly Cost | C39: =SUM(C37:C37) -> 0 | D39: =IF(ISNUMBER(D37),SUM(D37,D37),"N/A") -> N/A | E39: =E37*$C$37 -> 0 | F39: =F37*$C$37 -> 0
A40: Annual Cost | E40: =E39*12 -> 0 | F40: =F39*12 -> 0
A42: $ Change from current | F42: =F40-$E$40 -> 0
A43: % Change from Current | F43: =F42/$E$40 -> #DIV/0!
A47: All Basic Life/AD&D Products | F47: Vendor Response
A48: Rate Information
A49: Rate Guarantee End Date
A50: Participation Requirements
A51: Multi-line Discount
A52: Rate Caveats
A53: Confirm Rates Include Requested Commission | E53: ='[1]General Info'!C17 -> 0

Sheet Voluntary Life Provisions
A1: =ClientName -> Fashion Institute of Technology (FIT)
A2: Provisions For Voluntary Life/AD&D
B4: Current | C4: Vendor Response
A5: General Information | B5: Voluntary Life/AD&D | C5: Voluntary Life/AD&D
A6: Class 1
A7: Class Definition | B7: All Full-time Active Employees
A8: Coverage Effective Date | B8: No probationary period
A9: Definition of covered earnings | B9: Contracted annual rate of pay
A10: Voluntary Benefit Amount | B10: 1, 2, 3 or 4x annual earnings
A11: Voluntary Benefit Minimum | B11: 10000
A12: Voluntary Benefit Maximum | B12: 500000
A13: Guarantee Issue Amount | B13: 250000
A14: Class 2
A15: Class Definition | B15: All Full-time Active Employees of SUNY Korea, LLC
A16: Coverage Effective Date | B16: No probationary period
A17: Definition of covered earnings | B17: Contracted annual rate of pay
A18: Voluntary Benefit Amount | B18: 1, 2, 3 or 4x annual earnings
A19: Voluntary Benefit Minimum | B19: 10000
A20: Voluntary Benefit Maximum | B20: 500000
A21: Guarantee Issue | B21: 250000
A22: Class 3
A23: Class Definition
A24: Coverage Effective Date
A25: Definition of covered earnings
A26: Voluntary Benefit Amount
A27: Voluntary Benefit Minimum
A28: Voluntary Benefit Maximum
A29: Guarantee Issue
A30: Class 4
A31: Class Definition
A32: Coverage Effective Date
A33: Definition of covered earnings
... A38: Reductions
A39: Age Reduction Schedule | B39: N/A
A40: Coverage Termination Date | B40: Date of termination of employment
A41: Additional Provisions
A42: Waiver of Premium? | B42: Yes
A43: Waiver of Premium - Waiting period | B43: 6 months
A44: Waiver of Premium - Maximum age to begin | B44: 60
A45: Waiver of Premium - Termination date | B45: 65
...

Sheet Voluntary Life Financials
A1: =ClientName -> Fashion Institute of Technology (FIT)
A2: Voluntary Life/AD&D - Rates
A4: Voluntary Employee Life
A5: Rate Basis: | B5: 1000 | C5: Inforce Plan | F5: Vendor Response
A6: Age | C6: Lives | D6: Volume | E6: Inforce Rate | F6: Quoted Rate
A7: Under 25 | C7: 0 | D7: 0 | E7: 0.035
A8: 25-29 | C8: 2 | D8: 333000 | E8: 0.035
A9: 30-34 | C9: 1 | D9: 89000 | E9: 0.042
A10: 35-39 | C10: 13 | D10: 3888000 | E10: 0.05
A11: 40-44 | C11: 25 | D11: 7207000 | E11: 0.086
A12: 45-49 | C12: 39 | D12: 12872000 | E12: 0.137
A13: 50-54 | C13: 45 | D13: 14904000 | E13: 0.221
A14: 55-59 | C14: 28 | D14: 8778000 | E14: 0.345
A15: 60-64 | C15: 42 | D15: 14255000 | E15: 0.545
A16: 65-69 | C16: 32 | D16: 9135000 | E16: 0.908
A17: 70-74 | C17: 2 | D17: 882000 | E17: 0.908
A18: 75+ | C18: 0 | D18: 0 | E18: 0.908
A20: Monthly Cost | C20: =SUM(C7:C18) -> 229 | D20: =SUM(D7:D18) -> 72343000 | E20: =SUMPRODUCT($D$7:$D$18,E7:E18)/$B$5 -> 25779.664 | F20: =SUMPRODUCT($D$7:$D$18,F7:F18)/$B$5 -> 0
A21: Annual Cost | E21: =E20*12 -> 309355.97 | F21: =F20*12 -> 0
A23: $ Change from current | F23: =F21-$E$21 -> -309355.97
A24: % Change from Current | F24: =F23/$E$21 -> -1
A28: Voluntary Employee Life - Smoker
A29: Rate Basis: | B29: 1000 | C29: Inforce Plan | F29: Vendor Response
A30: Age | C30: Lives | D30: Volume | E30: Inforce Rate | F30: Quoted Rate
A31: Under 25
A32: 25-29
A33: 30-34
A34: 35-39
A35: 40-44
A36: 45-49
A37: 50-54
A38: 55-59
A39: 60-64
A40: 65-69
A41: 70-74
A42: 75+
A44: Monthly Cost | C44: =SUM(C31:C42) -> 0 | D44: =SUM(D31:D42) -> 0 | E44: =SUMPRODUCT($D$31:$D$42,E31:E42)/$B$5 -> 0 | F44: =SUMPRODUCT($D$7:$D$18,F31:F42)/$B$5 -> 0
A45: Annual Cost | E45: =E44*12 -> 0 | F45: =F44*12 -> 0
A47: $ Change from current | F47: =F45-$E$45 -> 0
A48: % Change from Current | F48: =F47/$E$45 -> #DIV/0!
...

Sheet LTD Plan Provisions
A1: =ClientName -> Fashion Institute of Technology (FIT)
A2: Provisions For Long Term Disability
B4: Current | C4: Vendor Response | D4: Alternate | E4: Alternate Vendor Response
A5: General Information | B5: Long Term Disability | C5: Long Term Disability | D5: Long Term Disability | E5: Long Term Disability
A6: Employer Contribution (Base or Core) | B6: 1
A7: Employer Contribution (Buy-up) | B7: 0
A8: Class 1
A9: Class Definition | B9: All Full-time Active Employees
A10: Eligibility Waiting Period | B10: 1st of the month following date of hire
A11: Definition of covered earnings | B11: Contracted annual rate of pay
A12: Elimination Period | B12: 180 days
A13: Benefit Amount | B13: 0.6
A14: Minimum Benefit | B14: greater of $100 per month or 10% of earnings
A15: Maximum Benefit | B15: 6000
A16: Buy-up Benefit Options:
A17: Option B | B17: 90 day elim, 60%, $6,000 max
A18: Option C | B18: 180 day elim, 70%, $6,000 max
A19: Option D | B19: 90 day elim, 70%, $6,000 max
A20: Definition of Disability – and/or definition | B20: Unable to perform the substantial duties of own occupation AND a loss of earnings
A21: Other
A22: Definition of Disability – Own Occupation | B22: 2 Year Own Occupation
A23: Maximum duration of benefit | B23: SSNRA
A24: Own Occupation Earnings Test | B24: 0.8
A25: Any Occupation Earnings Test | B25: 0.8
A26: Class 2
A27: Class Definition | B27: All Full-time Active Employees of SUNY Korea, LLC
A28: Eligibility Waiting Period | B28: 1st of the month following date of hire
A29: Definition of covered earnings | B29: Contracted annual rate of pay
A30: Elimination Period | B30: 180 days
A31: Benefit Amount | B31: 0.6
A32: Minimum Benefit | B32: greater of $100 per month or 10% of earnings
A33: Maximum Benefit | B33: 6000
A34: Buy-up Benefit Options:
A35: Option B | B35: 90 day elim, 60%, $6,000 max
A36: Option C | B36: 180 day elim, 70%, $6,000 max
A37: Option D | B37: 90 day elim, 70%, $6,000 max
A38: Definition of Disability – and/or definition | B38: Unable to perform the substantial duties of own occupation AND a loss of earnings
A39: Other
A40: Definition of Disability – Own Occupation | B40: 2 Year Own Occupation
A41: Maximum duration of benefit | B41: SSNRA
...

Sheet LTD Financials
A1: =ClientName -> Fashion Institute of Technology (FIT)
A2: Long Term Disability - Rates
A4: Long Term Disability
A5: Rate Basis (Covered Payroll): | B5: 100 | C5: Inforce Plan | F5: Vendor Response
A6: Class | C6: Lives | D6: Volume | E6: Inforce Rate | F6: Quoted Rate
A7: All Eligible | C7: 806 | D7: 7090924.5 | E7: 0.21
A8: Class 3
A9: Class 4
A11: Monthly Cost | C11: =SUM(C7:C9) -> 806 | D11: =SUM(D7:D9) -> 7090924.5 | E11: =SUMPRODUCT($D$7:$D$9,E7:E9)/$B$5 -> 14890.942 | F11: =SUMPRODUCT($D$7:$D$9,F7:F9)/$B$5 -> 0
A12: Annual Cost | E12: =E11*12 -> 178691.3 | F12: =F11*12 -> 0
A14: $ Change from current | F14: =F12-$E$12 -> -178691.3
A15: % Change from Current | F15: =F14/$E$12 -> -1
A19: Buy-up Option B Long Term Disability
A20: Rate Basis (Covered Payroll): | B20: 100 | C20: Inforce Plan | F20: Vendor Response
A21: Age | C21: Lives | D21: Volume | E21: Inforce Rate | F21: Quoted Rate
A22: Under 25 | E22: 0.022
A23: 25-29 | C23: 8 | D23: 50518.732 | E23: 0.019
A24: 30-34 | C24: 13 | D24: 97068.796 | E24: 0.015
A25: 35-39 | C25: 7 | D25: 50944.823 | E25: 0.0111
A26: 40-44 | C26: 12 | D26: 99845.747 | E26: 0.009
A27: 45-49 | C27: 12 | D27: 116748.48 | E27: 0.012
A28: 50-54 | C28: 17 | D28: 163495.85 | E28: 0.014
A29: 55-59 | C29: 17 | D29: 159506.61 | E29: 0.02
A30: 60-64 | C30: 17 | D30: 151546.2 | E30: 0.024
A31: 65-69 | C31: 20 | D31: 193897.83 | E31: 0.023
A32: 70-74 | C32: 6 | D32: 58491.342 | E32: 0.023
A33: 75+ | C33: 4 | D33: 39830.815 | E33: 0.023
A35: Monthly Cost | C35: =SUM(C22:C33) -> 133 | D35: =SUM(D22:D33) -> 1181895.2 | E35: =SUMPRODUCT($D$22:$D$33,E22:E33)/$B$20 -> 211.18211 | F35: =SUMPRODUCT($D$22:$D$33,F22:F33)/$B$20 -> 0
A36: Annual Cost | E36: =E35*12 -> 2534.1854 | F36: =F35*12 -> 0
A38: $ Change from current | F38: =F36-$E$36 -> -2534.1854
A39: % Change from Current | F39: =F38/$E$36 -> -1
A43: Buy-up Option C Long Term Disability
A44: Rate Basis (Covered Payroll): | B44: 100 | C44: Inforce Plan | F44: Vendor Response
A45: Age | C45: Lives | D45: Volume | E45: Inforce Rate | F45: Quoted Rate
A46: Under 25 | E46: 0.194
A47: 25-29 | E47: 0.136
A48: 30-34 | C48: 1 | D48: 6409.5975 | E48: 0.145
A49: 35-39 | E49: 0.116
A50: 40-44 | C50: 2 | D50: 16815.699 | E50: 0.106
A51: 45-49 | C51: 4 | D51: 34285.714 | E51: 0.126
...

Sheet Carrier contact Questionnaire
A1: =ClientName -> Fashion Institute of Technology (FIT)
A2: Bid Questionnaire - US Sales Contact Questionnaire
C4: Vendor Response
A5: Carrier Information
A6: Carrier Legal Entity Name, as written on formal proposal document
A7: Primary Marketing Contact
A8: Name
A9: Job Title
A10: Office Address | B10: Address 1
B11: Address 2
B12: City
B13: State
B14: Zip Code
A15: Phone Number
A16: Fax Number
A17: Email Address
A18: Ongoing Account Manager
A19: Name
A20: Job Title
A21: Office Address | B21: Address 1
B22: Address 2
B23: City
B24: State
B25: Zip Code
A26: Phone Number
A27: Fax Number
A28: Email Address
A29: Number of Years in Current Position
A30: Number of Years Experience in Industry
A31: Average Size of Clients (e.g., 0-1000 ; 1000-4999 ; 5000-10,000 lives)
A32: Number of Current Clients Managed by this Account Manager
A33: Implementation Manager
A34: Name
A35: Job Title
A36: Office Address | B36: Address 1
B37: Address 2
B38: City
B39: State
B40: Zip Code
A41: Phone Number
...

Sheet RFP General Terms & Conditions
A1: RFP GENERAL TERMS AND CONDITIONS
A3: A. Proposal Requirements:
A4: 1. Proposals must be received before the time and at the location stated on the cover page of the RFP and must include the entire proposal documents. Proposers are not permitted to change or modify Proposal Terms and Conditions, Contract Terms and Conditions and/ or any of the attachments. All Proposers propose on the same terms and conditions.
A5: 2. Each proposal must be emailed to purchasingbids@fitnyc.edu in PDF format.
A6: 3. Proposers are responsible to make certain that proposals are received at the FIT Purchasing Department before the time of the proposal deadline. FIT will not be responsible for improper delivery of proposals that do not comply with these instructions.
A7: 4. Proposals received after the time of the proposal deadline will not be opened.
A9: B. No Oral Statements:
A11: FIT will not be bound by any oral statement or representation in connection with the RFP or resulting Contract(s).
B13: Any changes to the proposal document required by FIT shall be in writing and shall be issued by the FIT Purchasing Department to every entity that requested a copy of the RFP.
A15: C. Proposer Affirmation:
A16: By signing the proposal, Proposer certifies that:
A17: 1. No public officer or employee whose salary is payable in whole or in part by FIT, the City or the State is directly or indirectly interested in the proposal, or in the goods, services, supplies, equipment or labor which may be related to the proposal; and
A18: 2. Proposer is not in arrears to FIT, the City or the State upon a debt, contract or taxes, and is not in default as surety or otherwise upon any obligation to any of them.
A20: D. Non-Collusive Proposal Certification:
A21: 1. By submission of its proposal, Proposer, and each person signing on behalf of Proposer certifies, and in the case of a joint proposal each party thereto certifies, as to its own organization, under penalty of perjury, that to the best of its knowledge and belief:
A22: a. The prices in the proposal have been arrived at independently without collusion, consultation, communication or agreement, for the purpose of restricting competition, as to any matter relating to such prices with any other proposer or with any competitor;
A23: b. Unless otherwise required by law, the prices which have been quoted in the proposal have not been knowingly disclosed by Proposer and will not knowingly be disclosed by Proposer prior to opening, directly or indirectly, to any other proposer or to any competitor; and
A24: c. No attempt has been made or will be made by Proposer to induce any other person, partnership or corporation to submit or not to submit a proposal for the purpose of restricting competition.
A25: 2. A proposal shall not be considered for award nor shall any award be made where (l)(a), (b) and (c) above have not been complied with; provided, however, that if in any case Proposer cannot make the foregoing certification, Proposer shall so state and shall furnish with the proposal a signed statement which sets forth in detail the reasons therefore.
A28: E. Confidentiality:
A29: 1. If Proposer believes that any information in its proposal or proposal constitutes a trade secret or should otherwise be treated as confidential and wishes such information not to be disclosed if requested pursuant to the New York State Freedom of Information Law (Article 6 of the Public Officers Law), Proposer shall submit with its proposal or proposal a separate letter specifically identifying page number(s), line(s) or other appropriate designation(s) containing such information; explain in detail why such information is a trade secret; and formally request that such information be kept confidential. Such information must be easily separable from the rest of the proposal or proposal. A request that an entire proposal or proposal be kept confidential will not be considered. Failure by Proposer to submit such a letter with its proposal or proposal identifying trade secrets shall constitute a waiver by Proposer of any rights it may have under FOIL.
... A59: h. FIT determines that Proposer is not responsible in accordance with law and FIT regulations.
A60: 2 | B60: FIT reserves the right to reject any or all proposals if it is in the best interest of FIT to do so.
A62: L. Award of Contract:
A63: 1. Subject to the provisions Paragraph K immediately above, the Award shall be made to the highest score of Evaluation Criteria Proposer pursuant to law and FIT regulations.
A64: 2. FIT reserves the right to waive technicalities in a proposal if it is in the best interest of FIT to do so.
A65: 3. By submission of its Proposal, Proposer represents that it is willing and able to enter into an agreement with FIT (the "Contract") upon the terms and conditions substantially in conformance with those contained in the agreement attached to this RFP ("Exhibit C").
A66: 4. The Contract shall be signed by the successful Proposer after the award is made. The successful Proposer shall execute the Contract within ten (10) business days of the award.
A67: 5. All contracts awarded by FIT shall be executory only to the extent of funds available.
A69: M. Governing Law:
A70: 1. This RFP shall be construed in accordance with the laws of the State of New York without regard to conflict of law provisions.
A71: 2. Any action arising from this RFP shall be brought in the federal or state courts located in the State of New York and in the County of New York.
A72: 3. Proposer consents to the exercise by the courts of the State of New York of personal jurisdiction over it concerning any matter arising out of or in connection with this RFP.

Sheet Contract Terms and Conditions
A1: CONTRACT TERMS AND CONDITIONS
A3: A. PERFORMANCE:
A5: 1. Contractor shall deliver the goods or perform the work of the Contract subject to all relevant federal, state and local laws.
A7: 2. Contractor shall provide copies of all licenses and certificates required for performance of the work within ten (10) days of FIT’s written request.
A9: 3. When Contractor, its employees, subcontractors and agents are on the FIT campus, they shall be subject to applicable FIT rules and regulations.
A11: 4. Contractor shall protect the work site from damage and shall repair at its own cost any damage to property caused by Contractor, its employees, subcontractors or agents.
A13: 5. Upon completion of the work of the Contract, Contractor shall leave the work site in a neat and clean condition.
A15: B. WAGE AND HOUR PROVISIONS (if applicable):
A17: 1. Although the work of the Contract is not “public work” as defined in the Labor Law of the State of New York, FIT intends that all applicable provisions of the Labor Law be carried out in the performance of the work.
A19: 2. Neither Contractor’s employees not the employees of its subcontractors shall be required or permitted to work more than the number of hours or days stated in the Labor Law.
A21: 3. Contractor and its subcontractors shall pay at least the prevailing wage rate and pay or provide the prevailing supplements in accordance with the Labor Law.
A23: C. DELIVERY:
... A256: 9. Indemnity: To the greatest extent permitted by law, Contractor shall defend and hold the College harmless from all claims, liabilities, damages, or judgments involving a third party, including the College’s costs and attorney fees, which arise as a result of Contractor’s failure to meet any of its obligations under this Contract.
